BEGIN:VCALENDAR
VERSION:2.0
PRODID:-//Fivesparks - ECPv6.15.20//NONSGML v1.0//EN
CALSCALE:GREGORIAN
METHOD:PUBLISH
X-WR-CALNAME:Fivesparks
X-ORIGINAL-URL:https://www.fivesparks.org
X-WR-CALDESC:Events for Fivesparks
REFRESH-INTERVAL;VALUE=DURATION:PT1H
X-Robots-Tag:noindex
X-PUBLISHED-TTL:PT1H
BEGIN:VTIMEZONE
TZID:America/New_York
BEGIN:DAYLIGHT
TZOFFSETFROM:-0500
TZOFFSETTO:-0400
TZNAME:EDT
DTSTART:20250309T070000
END:DAYLIGHT
BEGIN:STANDARD
TZOFFSETFROM:-0400
TZOFFSETTO:-0500
TZNAME:EST
DTSTART:20251102T060000
END:STANDARD
BEGIN:DAYLIGHT
TZOFFSETFROM:-0500
TZOFFSETTO:-0400
TZNAME:EDT
DTSTART:20260308T070000
END:DAYLIGHT
BEGIN:STANDARD
TZOFFSETFROM:-0400
TZOFFSETTO:-0500
TZNAME:EST
DTSTART:20261101T060000
END:STANDARD
BEGIN:DAYLIGHT
TZOFFSETFROM:-0500
TZOFFSETTO:-0400
TZNAME:EDT
DTSTART:20270314T070000
END:DAYLIGHT
BEGIN:STANDARD
TZOFFSETFROM:-0400
TZOFFSETTO:-0500
TZNAME:EST
DTSTART:20271107T060000
END:STANDARD
END:VTIMEZONE
BEGIN:VEVENT
DTSTART;TZID=America/New_York:20260415T124500
DTEND;TZID=America/New_York:20260415T143000
DTSTAMP:20260422T044801
CREATED:20260211T165343Z
LAST-MODIFIED:20260211T165543Z
UID:10002973-1776257100-1776263400@www.fivesparks.org
SUMMARY:1/2 Day Felting
DESCRIPTION:1/2 days in Harvard\n12:45-2:30\nDrop in or join for multiple! \nMarch 4th- Pika in Fivesparks Loft\nApril 8th- Bunny in Fivesparks Cove\nApril 15th- Duck in Fivesparks Loft \nOpen to 5th-8th graders \nLearn the basics of needle felting while creating a variety of adorable felted projects. \n$30 per class or get a reduced rate if you sign up for multiple 1/2 days at once.\nFor more information or to save your spot click the link below: \nhttps://www.thefiberweb.com/shop/in-person/15
URL:https://www.fivesparks.org/event/1-2-day-felting/2026-04-15/
LOCATION:Fivesparks Loft\, 7 Fairbank Street\, Harvard\, MA\, 01451\, United States
CATEGORIES:art,kids
ATTACH;FMTTYPE=image/jpeg:https://www.fivesparks.org/wp-content/uploads/2026/02/April-Felting.jpg
ORGANIZER;CN="Rachel Benson":MAILTO:rachelbenson@thefiberweb.com
END:VEVENT
BEGIN:VEVENT
DTSTART;TZID=America/New_York:20260408T124500
DTEND;TZID=America/New_York:20260408T143000
DTSTAMP:20260422T044801
CREATED:20260211T165343Z
LAST-MODIFIED:20260211T165543Z
UID:10002972-1775652300-1775658600@www.fivesparks.org
SUMMARY:1/2 Day Felting
DESCRIPTION:1/2 days in Harvard\n12:45-2:30\nDrop in or join for multiple! \nMarch 4th- Pika in Fivesparks Loft\nApril 8th- Bunny in Fivesparks Cove\nApril 15th- Duck in Fivesparks Loft \nOpen to 5th-8th graders \nLearn the basics of needle felting while creating a variety of adorable felted projects. \n$30 per class or get a reduced rate if you sign up for multiple 1/2 days at once.\nFor more information or to save your spot click the link below: \nhttps://www.thefiberweb.com/shop/in-person/15
URL:https://www.fivesparks.org/event/1-2-day-felting/2026-04-08/
LOCATION:Fivesparks Loft\, 7 Fairbank Street\, Harvard\, MA\, 01451\, United States
CATEGORIES:art,kids
ATTACH;FMTTYPE=image/jpeg:https://www.fivesparks.org/wp-content/uploads/2026/02/April-Felting.jpg
ORGANIZER;CN="Rachel Benson":MAILTO:rachelbenson@thefiberweb.com
END:VEVENT
BEGIN:VEVENT
DTSTART;TZID=America/New_York:20260304T124500
DTEND;TZID=America/New_York:20260304T143000
DTSTAMP:20260422T044801
CREATED:20260211T165343Z
LAST-MODIFIED:20260211T165543Z
UID:10002971-1772628300-1772634600@www.fivesparks.org
SUMMARY:1/2 Day Felting
DESCRIPTION:1/2 days in Harvard\n12:45-2:30\nDrop in or join for multiple! \nMarch 4th- Pika in Fivesparks Loft\nApril 8th- Bunny in Fivesparks Cove\nApril 15th- Duck in Fivesparks Loft \nOpen to 5th-8th graders \nLearn the basics of needle felting while creating a variety of adorable felted projects. \n$30 per class or get a reduced rate if you sign up for multiple 1/2 days at once.\nFor more information or to save your spot click the link below: \nhttps://www.thefiberweb.com/shop/in-person/15
URL:https://www.fivesparks.org/event/1-2-day-felting/2026-03-04/
LOCATION:Fivesparks Loft\, 7 Fairbank Street\, Harvard\, MA\, 01451\, United States
CATEGORIES:art,kids
ATTACH;FMTTYPE=image/jpeg:https://www.fivesparks.org/wp-content/uploads/2026/02/April-Felting.jpg
ORGANIZER;CN="Rachel Benson":MAILTO:rachelbenson@thefiberweb.com
END:VEVENT
END:VCALENDAR