BEGIN:VCALENDAR
VERSION:2.0
PRODID:-//Fivesparks - ECPv6.15.20//NONSGML v1.0//EN
CALSCALE:GREGORIAN
METHOD:PUBLISH
X-WR-CALNAME:Fivesparks
X-ORIGINAL-URL:https://www.fivesparks.org
X-WR-CALDESC:Events for Fivesparks
REFRESH-INTERVAL;VALUE=DURATION:PT1H
X-Robots-Tag:noindex
X-PUBLISHED-TTL:PT1H
BEGIN:VTIMEZONE
TZID:America/New_York
BEGIN:DAYLIGHT
TZOFFSETFROM:-0500
TZOFFSETTO:-0400
TZNAME:EDT
DTSTART:20250309T070000
END:DAYLIGHT
BEGIN:STANDARD
TZOFFSETFROM:-0400
TZOFFSETTO:-0500
TZNAME:EST
DTSTART:20251102T060000
END:STANDARD
BEGIN:DAYLIGHT
TZOFFSETFROM:-0500
TZOFFSETTO:-0400
TZNAME:EDT
DTSTART:20260308T070000
END:DAYLIGHT
BEGIN:STANDARD
TZOFFSETFROM:-0400
TZOFFSETTO:-0500
TZNAME:EST
DTSTART:20261101T060000
END:STANDARD
BEGIN:DAYLIGHT
TZOFFSETFROM:-0500
TZOFFSETTO:-0400
TZNAME:EDT
DTSTART:20270314T070000
END:DAYLIGHT
BEGIN:STANDARD
TZOFFSETFROM:-0400
TZOFFSETTO:-0500
TZNAME:EST
DTSTART:20271107T060000
END:STANDARD
END:VTIMEZONE
BEGIN:VEVENT
DTSTART;TZID=America/New_York:20261106T193000
DTEND;TZID=America/New_York:20261106T213000
DTSTAMP:20260420T125948
CREATED:20260221T213313Z
LAST-MODIFIED:20260221T222810Z
UID:10002994-1793993400-1794000600@www.fivesparks.org
SUMMARY:Off Brand Improv Comedy Troupe
DESCRIPTION:We are a local improv troupe and have been performing at different locations since 2018. \nOur Improv show is for adult and young adult audiences (not for kids). We do not pull anyone on stage. If we have a game where we ask for a volunteer to join us\, then we take someone who has raised their hand. \nTwo performances\, Friday\, November 6 at 7:30pm and Saturday\, November 7 at 7:30pm. Tickets $18 in advance\, $20 at the door (cash or venmo). \nDoors open at 6:30pm. Bring your own snacks and non-alcoholic beverages.
URL:https://www.fivesparks.org/event/off-brand-improv-comedy-troupe-2/2026-11-06/
LOCATION:Fivesparks Gallery\, 7 Fairbank Street\, Harvard\, MA\, 01451\, United States
CATEGORIES:live
ATTACH;FMTTYPE=image/jpeg:https://www.fivesparks.org/wp-content/uploads/2026/01/Off-Brand-Improv.jpg
END:VEVENT
BEGIN:VEVENT
DTSTART;TZID=America/New_York:20261107T193000
DTEND;TZID=America/New_York:20261107T213000
DTSTAMP:20260420T125948
CREATED:20260221T213313Z
LAST-MODIFIED:20260221T222810Z
UID:10002995-1794079800-1794087000@www.fivesparks.org
SUMMARY:Off Brand Improv Comedy Troupe
DESCRIPTION:We are a local improv troupe and have been performing at different locations since 2018. \nOur Improv show is for adult and young adult audiences (not for kids). We do not pull anyone on stage. If we have a game where we ask for a volunteer to join us\, then we take someone who has raised their hand. \nTwo performances\, Friday\, November 6 at 7:30pm and Saturday\, November 7 at 7:30pm. Tickets $18 in advance\, $20 at the door (cash or venmo). \nDoors open at 6:30pm. Bring your own snacks and non-alcoholic beverages.
URL:https://www.fivesparks.org/event/off-brand-improv-comedy-troupe-2/2026-11-07/
LOCATION:Fivesparks Gallery\, 7 Fairbank Street\, Harvard\, MA\, 01451\, United States
CATEGORIES:live
ATTACH;FMTTYPE=image/jpeg:https://www.fivesparks.org/wp-content/uploads/2026/01/Off-Brand-Improv.jpg
END:VEVENT
END:VCALENDAR